BEGIN:VCALENDAR
VERSION:2.0
PRODID:-//Spielmannszug Wewer - ECPv6.15.11//NONSGML v1.0//EN
CALSCALE:GREGORIAN
METHOD:PUBLISH
X-ORIGINAL-URL:https://www.spielmannszug-wewer.de
X-WR-CALDESC:Veranstaltungen für Spielmannszug Wewer
REFRESH-INTERVAL;VALUE=DURATION:PT1H
X-Robots-Tag:noindex
X-PUBLISHED-TTL:PT1H
BEGIN:VTIMEZONE
TZID:Europe/Berlin
BEGIN:DAYLIGHT
TZOFFSETFROM:+0100
TZOFFSETTO:+0200
TZNAME:CEST
DTSTART:20240331T010000
END:DAYLIGHT
BEGIN:STANDARD
TZOFFSETFROM:+0200
TZOFFSETTO:+0100
TZNAME:CET
DTSTART:20241027T010000
END:STANDARD
BEGIN:DAYLIGHT
TZOFFSETFROM:+0100
TZOFFSETTO:+0200
TZNAME:CEST
DTSTART:20250330T010000
END:DAYLIGHT
BEGIN:STANDARD
TZOFFSETFROM:+0200
TZOFFSETTO:+0100
TZNAME:CET
DTSTART:20251026T010000
END:STANDARD
BEGIN:DAYLIGHT
TZOFFSETFROM:+0100
TZOFFSETTO:+0200
TZNAME:CEST
DTSTART:20260329T010000
END:DAYLIGHT
BEGIN:STANDARD
TZOFFSETFROM:+0200
TZOFFSETTO:+0100
TZNAME:CET
DTSTART:20261025T010000
END:STANDARD
END:VTIMEZONE
BEGIN:VEVENT
DTSTART;TZID=Europe/Berlin:20250704T190000
DTEND;TZID=Europe/Berlin:20250704T230000
DTSTAMP:20260422T124741
CREATED:20250116T090744Z
LAST-MODIFIED:20250116T090744Z
UID:6335-1751655600-1751670000@www.spielmannszug-wewer.de
SUMMARY:2. Ausmarsch Königsträßer Kompanie PBSV
DESCRIPTION:
URL:https://www.spielmannszug-wewer.de/event/2-ausmarsch-koenigstraesser-kompanie-pbsv/
CATEGORIES:Konzert
END:VEVENT
BEGIN:VEVENT
DTSTART;VALUE=DATE:20250712
DTEND;VALUE=DATE:20250713
DTSTAMP:20260422T124741
CREATED:20250116T090820Z
LAST-MODIFIED:20250116T090820Z
UID:6338-1752278400-1752364799@www.spielmannszug-wewer.de
SUMMARY:Schützenfest Paderborn SA
DESCRIPTION:
URL:https://www.spielmannszug-wewer.de/event/schuetzenfest-paderborn-sa/
CATEGORIES:Ausmarsch
END:VEVENT
BEGIN:VEVENT
DTSTART;VALUE=DATE:20250713
DTEND;VALUE=DATE:20250714
DTSTAMP:20260422T124741
CREATED:20250617T131045Z
LAST-MODIFIED:20250617T131051Z
UID:6375-1752364800-1752451199@www.spielmannszug-wewer.de
SUMMARY:Schützenfest Paderborn SO
DESCRIPTION:
URL:https://www.spielmannszug-wewer.de/event/schuetzenfest-paderborn-so-2/
CATEGORIES:Ausmarsch
END:VEVENT
BEGIN:VEVENT
DTSTART;VALUE=DATE:20250714
DTEND;VALUE=DATE:20250715
DTSTAMP:20260422T124741
CREATED:20250116T090840Z
LAST-MODIFIED:20250116T090851Z
UID:6341-1752451200-1752537599@www.spielmannszug-wewer.de
SUMMARY:Schützenfest Paderborn MO
DESCRIPTION:
URL:https://www.spielmannszug-wewer.de/event/schuetzenfest-paderborn-so/
CATEGORIES:Ausmarsch
END:VEVENT
END:VCALENDAR