BEGIN:VCALENDAR
VERSION:2.0
PRODID:-//Spielmannszug Wewer - ECPv6.15.11//NONSGML v1.0//EN
CALSCALE:GREGORIAN
METHOD:PUBLISH
X-WR-CALNAME:Spielmannszug Wewer
X-ORIGINAL-URL:https://www.spielmannszug-wewer.de
X-WR-CALDESC:Veranstaltungen für Spielmannszug Wewer
REFRESH-INTERVAL;VALUE=DURATION:PT1H
X-Robots-Tag:noindex
X-PUBLISHED-TTL:PT1H
BEGIN:VTIMEZONE
TZID:Europe/Berlin
BEGIN:DAYLIGHT
TZOFFSETFROM:+0100
TZOFFSETTO:+0200
TZNAME:CEST
DTSTART:20240331T010000
END:DAYLIGHT
BEGIN:STANDARD
TZOFFSETFROM:+0200
TZOFFSETTO:+0100
TZNAME:CET
DTSTART:20241027T010000
END:STANDARD
BEGIN:DAYLIGHT
TZOFFSETFROM:+0100
TZOFFSETTO:+0200
TZNAME:CEST
DTSTART:20250330T010000
END:DAYLIGHT
BEGIN:STANDARD
TZOFFSETFROM:+0200
TZOFFSETTO:+0100
TZNAME:CET
DTSTART:20251026T010000
END:STANDARD
BEGIN:DAYLIGHT
TZOFFSETFROM:+0100
TZOFFSETTO:+0200
TZNAME:CEST
DTSTART:20260329T010000
END:DAYLIGHT
BEGIN:STANDARD
TZOFFSETFROM:+0200
TZOFFSETTO:+0100
TZNAME:CET
DTSTART:20261025T010000
END:STANDARD
END:VTIMEZONE
BEGIN:VEVENT
DTSTART;TZID=Europe/Berlin:20250509T184500
DTEND;TZID=Europe/Berlin:20250509T230000
DTSTAMP:20260422T165011
CREATED:20250116T090319Z
LAST-MODIFIED:20250116T090319Z
UID:6314-1746816300-1746831600@www.spielmannszug-wewer.de
SUMMARY:Kommersabend Wewer
DESCRIPTION:
URL:https://www.spielmannszug-wewer.de/event/kommersabend-wewer/
LOCATION:Bürgerhaus Wewer\, Delbrücker Weg 56\, Wewer\, 33106
CATEGORIES:Konzert
END:VEVENT
BEGIN:VEVENT
DTSTART;VALUE=DATE:20250510
DTEND;VALUE=DATE:20250511
DTSTAMP:20260422T165011
CREATED:20250116T090351Z
LAST-MODIFIED:20250116T090351Z
UID:6317-1746835200-1746921599@www.spielmannszug-wewer.de
SUMMARY:Vogelschießen Wewer
DESCRIPTION:
URL:https://www.spielmannszug-wewer.de/event/vogelschiessen-wewer/
LOCATION:Schützenplatz Wewer
CATEGORIES:Ausmarsch,Konzert
END:VEVENT
BEGIN:VEVENT
DTSTART;TZID=Europe/Berlin:20250515T190000
DTEND;TZID=Europe/Berlin:20250515T210000
DTSTAMP:20260422T165011
CREATED:20250116T090445Z
LAST-MODIFIED:20250116T090445Z
UID:6320-1747335600-1747342800@www.spielmannszug-wewer.de
SUMMARY:Zapfenstreich- und Paradeprobe mit MuKaWe
DESCRIPTION:
URL:https://www.spielmannszug-wewer.de/event/zapfenstreich-und-paradeprobe-mit-mukawe/
LOCATION:Schützenplatz Wewer
CATEGORIES:Probe
END:VEVENT
BEGIN:VEVENT
DTSTART;VALUE=DATE:20250517
DTEND;VALUE=DATE:20250518
DTSTAMP:20260422T165011
CREATED:20250116T090524Z
LAST-MODIFIED:20250116T090524Z
UID:6323-1747440000-1747526399@www.spielmannszug-wewer.de
SUMMARY:Schützenfest Wewer SA
DESCRIPTION:
URL:https://www.spielmannszug-wewer.de/event/schuetzenfest-wewer-sa/
LOCATION:Schützenplatz Wewer
CATEGORIES:Ausmarsch
END:VEVENT
BEGIN:VEVENT
DTSTART;VALUE=DATE:20250518
DTEND;VALUE=DATE:20250519
DTSTAMP:20260422T165011
CREATED:20250116T090539Z
LAST-MODIFIED:20250116T090539Z
UID:6326-1747526400-1747612799@www.spielmannszug-wewer.de
SUMMARY:Schützenfest Wewer SO
DESCRIPTION:
URL:https://www.spielmannszug-wewer.de/event/schuetzenfest-wewer-so/
LOCATION:Schützenplatz Wewer
CATEGORIES:Ausmarsch
END:VEVENT
BEGIN:VEVENT
DTSTART;VALUE=DATE:20250519
DTEND;VALUE=DATE:20250520
DTSTAMP:20260422T165011
CREATED:20250116T090552Z
LAST-MODIFIED:20250116T090552Z
UID:6329-1747612800-1747699199@www.spielmannszug-wewer.de
SUMMARY:Schützenfest Wewer MO
DESCRIPTION:
URL:https://www.spielmannszug-wewer.de/event/schuetzenfest-wewer-mo/
LOCATION:Schützenplatz Wewer
CATEGORIES:Ausmarsch
END:VEVENT
BEGIN:VEVENT
DTSTART;TZID=Europe/Berlin:20250530T190000
DTEND;TZID=Europe/Berlin:20250530T210000
DTSTAMP:20260422T165011
CREATED:20250116T085850Z
LAST-MODIFIED:20250116T085850Z
UID:6299-1748631600-1748638800@www.spielmannszug-wewer.de
SUMMARY:Ü50 Stammtisch
DESCRIPTION:
URL:https://www.spielmannszug-wewer.de/event/ue50-stammtisch-2/
LOCATION:Bernemanns „Zum Hölzchen“\, Melkweg 44\, Wewer\, 33106
CATEGORIES:Stammtisch
END:VEVENT
END:VCALENDAR